BEGIN:VCALENDAR
VERSION:2.0
PRODID:-// - ECPv6.13.1//NONSGML v1.0//EN
CALSCALE:GREGORIAN
METHOD:PUBLISH
X-ORIGINAL-URL:https://orthodoxekerkleeuwarden.nl
X-WR-CALDESC:Evenementen voor 
REFRESH-INTERVAL;VALUE=DURATION:PT1H
X-Robots-Tag:noindex
X-PUBLISHED-TTL:PT1H
BEGIN:VTIMEZONE
TZID:Europe/Amsterdam
BEGIN:DAYLIGHT
TZOFFSETFROM:+0100
TZOFFSETTO:+0200
TZNAME:CEST
DTSTART:20260329T010000
END:DAYLIGHT
BEGIN:STANDARD
TZOFFSETFROM:+0200
TZOFFSETTO:+0100
TZNAME:CET
DTSTART:20261025T010000
END:STANDARD
END:VTIMEZONE
BEGIN:VEVENT
DTSTART;TZID=Europe/Amsterdam:20260428T190000
DTEND;TZID=Europe/Amsterdam:20260428T210000
DTSTAMP:20260420T053352
CREATED:20260419T172606Z
LAST-MODIFIED:20260419T172822Z
UID:537-1777402800-1777410000@orthodoxekerkleeuwarden.nl
SUMMARY:19:00 uur - Thema-avond met een algemene Q&A
DESCRIPTION:Op dinsdag 28 april om 19:00 uur wordt in het Cultureel Centrum\, Oldegalileën 129 te Leeuwarden\, de Thema-avond gehouden met een algemene Q&A.
URL:https://orthodoxekerkleeuwarden.nl/event/1900-thema-avond-met-een-algemene-qa/
LOCATION:Het Kerkgebouw\, Oldegalileën 129\, Leeuwarden\, 8922 AC
END:VEVENT
END:VCALENDAR